BEGIN:VCALENDAR
VERSION:2.0
PRODID:-//wp-events-plugin.com//7.2.3.1//EN
BEGIN:VEVENT
UID:1294@salsaviva.nl
DTSTART:20240824T091500Z
DTEND:20240824T123000Z
DTSTAMP:20240817T193943Z
URL:https://salsaviva.nl/events/afro-cuban-dance-bootcamps/
SUMMARY:Afro Cuban Dance bootcamps
DESCRIPTION:Afro Cuban Dance bootcamps\n\nPedro Ricardo Henry (uit Cuba) is
  een fantastische danser die je via deze bootcamps een uitstekende kans bi
 edt om echt Afro-Cubaanse danstechnieken te leren!\n\nDe Afro Cubaanse dan
 s is een dans die de Orishas (bovennatuurlijke wezens) uit het Yoruba gelo
 of vertegenwoordigt. Pedro zal je kennis laten maken met Afro Cubaanse dan
 stechniek en Orishas\, ​​beginnend bij de basistechnieken\, torso werk
 \, continue ‘muelleo’ (speciale manier van buigen van de knieën\, een
  belangrijk element in Afro-Cubaanse dansen)\, onafhankelijkheid van licha
 amsdelen\, en veel muzikaliteit\n\nTwee verschillende bootcamps\, die op e
 lkaar aansluiten\, maar je elk apart aan kan meedoen:\n\n11:15 – 12:45 u
 ur:  kennismaking met Afro-Cubaanse danstechnieken\, Los Orishas\, ​​
 beginnend bij de basis\, torso-werk\, continue muelleo\, muzikaliteit.\n\n
 13:00 – 14:30 uur: de tweede bootcamp gaat verder met de Afro-hedendaags
 e dans\, wat een fusie is tussen de Afro-Cubaanse dansen en de Cubaanse mo
 derne danstechniek\, rumba cubana\, Afro (Orishas)\, lichaamsbeweging.\n\n
 Pedro Ricardo Henry\nPedro is een professionele danser\, docent en choreog
 raaf uit Cuba. Hij studeerde aan de Escuela Nacional de Arte (ENA) in Hava
 na\, waar hij zich specialiseerde in moderne dans en folklore.\n\nNa zijn 
 afstuderen kreeg hij de kans om zijn professionele carrière te beginnen b
 ij het gerenommeerde gezelschap "Danza Contemporánea de Cuba." Later sloo
 t hij zich aan bij het gewaardeerde "Ballet de la TV Cubana". In 2013 kree
 g hij de kans om naar Europa te reizen. Hier zette hij zijn professionele 
 carrière voort en werkte hij voor de Opera du Rhin (FR)\, de theaters in 
 Aken en Freiburg (D).\n\nIn 2017 verhuisde hij naar Nederland en werkte hi
 j met verschillende prestigieuze Nederlandse gezelschappen zoals de Sally 
 Dance Company Maastricht en Via Berlin.\n\nMomenteel is hij een van de dan
 sers van het dansgezelschap Conny Janssen Danst in Rotterdam.\n\nPrices:\n
 - één bootcamp: 40 euro (on-line: weticket) of 50 euro bij de deur\n- tw
 ee bootcamps: 75 euro (on-line: weticket) of 90 euro bij de deur\n\nDeelna
 me via betaling vooraf (on-line: weticket)
CATEGORIES:Bootcamp
LOCATION:Dansschool Salsa Viva\, Van Calcarstraat 31\, Deventer\, Nederland
 \, 7415CK\, Nederland
GEO:52.263217;6.167189
X-APPLE-STRUCTURED-LOCATION;VALUE=URI;X-ADDRESS=Van Calcarstraat 31\, Deven
 ter\, Nederland\, 7415CK\, Nederland;X-APPLE-RADIUS=100;X-TITLE=Dansschool
  Salsa Viva:geo:52.263217,6.167189
END:VEVENT
END:VCALENDAR